Package: BeadDataPackR Version: 1.61.0 Command: /Library/Frameworks/R.framework/Resources/bin/R CMD INSTALL BeadDataPackR StartedAt: 2025-10-20 15:07:50 -0400 (Mon, 20 Oct 2025) EndedAt: 2025-10-20 15:09:11 -0400 (Mon, 20 Oct 2025) EllapsedTime: 80.1 seconds RetCode: 0 Status: OK