Package: BeadDataPackR Version: 1.61.0 Command: /Library/Frameworks/R.framework/Resources/bin/R CMD check --install=check:BeadDataPackR.install-out.txt --library=/Library/Frameworks/R.framework/Resources/library --no-vignettes --timings BeadDataPackR_1.61.0.tar.gz StartedAt: 2025-10-19 20:30:34 -0400 (Sun, 19 Oct 2025) EndedAt: 2025-10-19 20:31:04 -0400 (Sun, 19 Oct 2025) EllapsedTime: 29.9 seconds RetCode: 0 Status: OK CheckDir: BeadDataPackR.Rcheck Warnings: 0