Package: BeadDataPackR Version: 1.61.0 Command: /Library/Frameworks/R.framework/Resources/bin/R CMD check --install=check:BeadDataPackR.install-out.txt --library=/Library/Frameworks/R.framework/Resources/library --no-vignettes --timings BeadDataPackR_1.61.0.tar.gz StartedAt: 2025-10-20 18:34:50 -0400 (Mon, 20 Oct 2025) EndedAt: 2025-10-20 18:35:02 -0400 (Mon, 20 Oct 2025) EllapsedTime: 11.2 seconds RetCode: 0 Status: OK CheckDir: BeadDataPackR.Rcheck Warnings: 0