Package: BeadDataPackR Version: 1.61.0 Command: rm -rf BeadDataPackR.buildbin-libdir && mkdir BeadDataPackR.buildbin-libdir && /Users/biocbuild/BBS/utils/build-universal.sh BeadDataPackR_1.61.0.tar.gz /Library/Frameworks/R.framework/Resources/bin/R BeadDataPackR.buildbin-libdir StartedAt: 2025-10-19 22:51:39 -0400 (Sun, 19 Oct 2025) EndedAt: 2025-10-19 22:51:41 -0400 (Sun, 19 Oct 2025) EllapsedTime: 2.0 seconds RetCode: 0 Status: OK PackageFile: BeadDataPackR_1.61.0.tgz PackageFileSize: 284.6 KiB