Package: BasicSTARRseq Version: 1.37.1 Command: /home/biocbuild/R/R/bin/R CMD INSTALL BasicSTARRseq StartedAt: 2025-10-16 21:39:28 -0000 (Thu, 16 Oct 2025) EndedAt: 2025-10-16 21:40:03 -0000 (Thu, 16 Oct 2025) EllapsedTime: 35.2 seconds RetCode: 0 Status: OK