Package: BasicSTARRseq Version: 1.37.1 Command: /home/biocbuild/R/R/bin/R CMD check --install=check:BasicSTARRseq.install-out.txt --library=/home/biocbuild/R/R/site-library --no-vignettes --timings BasicSTARRseq_1.37.1.tar.gz StartedAt: 2025-10-17 06:14:02 -0000 (Fri, 17 Oct 2025) EndedAt: 2025-10-17 06:18:02 -0000 (Fri, 17 Oct 2025) EllapsedTime: 239.4 seconds RetCode: 0 Status: OK CheckDir: BasicSTARRseq.Rcheck Warnings: 0