Package: BasicSTARRseq Version: 1.37.1 Command: /home/biocbuild/R/R/bin/R CMD build --keep-empty-dirs --no-resave-data BasicSTARRseq StartedAt: 2025-10-16 23:12:40 -0000 (Thu, 16 Oct 2025) EndedAt: 2025-10-16 23:13:26 -0000 (Thu, 16 Oct 2025) EllapsedTime: 46.0 seconds RetCode: 0 Status: OK PackageFile: BasicSTARRseq_1.37.1.tar.gz PackageFileSize: 545.1 KiB