Package: BasicSTARRseq Version: 1.37.1 Command: /home/biocbuild/bbs-3.22-bioc/R/bin/R CMD INSTALL BasicSTARRseq StartedAt: 2025-10-19 15:26:25 -0400 (Sun, 19 Oct 2025) EndedAt: 2025-10-19 15:26:50 -0400 (Sun, 19 Oct 2025) EllapsedTime: 25.2 seconds RetCode: 0 Status: OK