Package: BasicSTARRseq Version: 1.37.1 Command: /home/biocbuild/bbs-3.22-bioc/R/bin/R CMD check --install=check:BasicSTARRseq.install-out.txt --library=/home/biocbuild/bbs-3.22-bioc/R/site-library --timings BasicSTARRseq_1.37.1.tar.gz StartedAt: 2025-10-19 21:16:14 -0400 (Sun, 19 Oct 2025) EndedAt: 2025-10-19 21:19:04 -0400 (Sun, 19 Oct 2025) EllapsedTime: 170.1 seconds RetCode: 0 Status: OK CheckDir: BasicSTARRseq.Rcheck Warnings: 0