Package: BasicSTARRseq Version: 1.37.1 Command: /Library/Frameworks/R.framework/Resources/bin/R CMD INSTALL BasicSTARRseq StartedAt: 2025-10-19 15:27:18 -0400 (Sun, 19 Oct 2025) EndedAt: 2025-10-19 15:27:57 -0400 (Sun, 19 Oct 2025) EllapsedTime: 38.4 seconds RetCode: 0 Status: OK