Package: BasicSTARRseq Version: 1.37.1 Command: /Library/Frameworks/R.framework/Resources/bin/R CMD check --install=check:BasicSTARRseq.install-out.txt --library=/Library/Frameworks/R.framework/Resources/library --no-vignettes --timings BasicSTARRseq_1.37.1.tar.gz StartedAt: 2025-10-19 20:27:25 -0400 (Sun, 19 Oct 2025) EndedAt: 2025-10-19 20:30:43 -0400 (Sun, 19 Oct 2025) EllapsedTime: 198.5 seconds RetCode: 0 Status: OK CheckDir: BasicSTARRseq.Rcheck Warnings: 0