Package: BasicSTARRseq Version: 1.37.1 Command: /Library/Frameworks/R.framework/Resources/bin/R CMD build --keep-empty-dirs --no-resave-data BasicSTARRseq StartedAt: 2025-10-19 16:07:32 -0400 (Sun, 19 Oct 2025) EndedAt: 2025-10-19 16:08:31 -0400 (Sun, 19 Oct 2025) EllapsedTime: 59.1 seconds RetCode: 0 Status: OK PackageFile: BasicSTARRseq_1.37.1.tar.gz PackageFileSize: 551.6 KiB