Package: BasicSTARRseq Version: 1.37.1 Command: rm -rf BasicSTARRseq.buildbin-libdir && mkdir BasicSTARRseq.buildbin-libdir && /Users/biocbuild/BBS/utils/build-universal.sh BasicSTARRseq_1.37.1.tar.gz /Library/Frameworks/R.framework/Resources/bin/R BasicSTARRseq.buildbin-libdir StartedAt: 2025-10-20 22:52:16 -0400 (Mon, 20 Oct 2025) EndedAt: 2025-10-20 22:52:27 -0400 (Mon, 20 Oct 2025) EllapsedTime: 11.4 seconds RetCode: 0 Status: OK PackageFile: BasicSTARRseq_1.37.1.tgz PackageFileSize: 809.8 KiB