Package: BaseSpaceR Version: 1.53.0 Command: /home/biocbuild/bbs-3.22-bioc/R/bin/R CMD INSTALL BaseSpaceR StartedAt: 2025-10-20 15:02:46 -0400 (Mon, 20 Oct 2025) EndedAt: 2025-10-20 15:02:59 -0400 (Mon, 20 Oct 2025) EllapsedTime: 13.4 seconds RetCode: 0 Status: OK