Package: BaseSpaceR Version: 1.53.0 Command: /home/biocbuild/bbs-3.22-bioc/R/bin/R CMD check --install=check:BaseSpaceR.install-out.txt --library=/home/biocbuild/bbs-3.22-bioc/R/site-library --timings BaseSpaceR_1.53.0.tar.gz StartedAt: 2025-10-19 21:15:03 -0400 (Sun, 19 Oct 2025) EndedAt: 2025-10-19 21:15:55 -0400 (Sun, 19 Oct 2025) EllapsedTime: 52.0 seconds RetCode: 0 Status: WARNINGS CheckDir: BaseSpaceR.Rcheck Warnings: 1