Package: BaseSpaceR Version: 1.53.0 Command: /Library/Frameworks/R.framework/Resources/bin/R CMD INSTALL BaseSpaceR StartedAt: 2025-10-20 15:05:42 -0400 (Mon, 20 Oct 2025) EndedAt: 2025-10-20 15:06:13 -0400 (Mon, 20 Oct 2025) EllapsedTime: 30.7 seconds RetCode: 0 Status: OK