Package: BaseSpaceR Version: 1.53.0 Command: /Library/Frameworks/R.framework/Resources/bin/R CMD check --install=check:BaseSpaceR.install-out.txt --library=/Library/Frameworks/R.framework/Resources/library --no-vignettes --timings BaseSpaceR_1.53.0.tar.gz StartedAt: 2025-10-19 20:26:41 -0400 (Sun, 19 Oct 2025) EndedAt: 2025-10-19 20:27:32 -0400 (Sun, 19 Oct 2025) EllapsedTime: 50.4 seconds RetCode: 0 Status: WARNINGS CheckDir: BaseSpaceR.Rcheck Warnings: 1