Package: BadRegionFinder Version: 1.37.0 Command: /home/biocbuild/R/R/bin/R CMD INSTALL BadRegionFinder StartedAt: 2025-10-16 22:03:42 -0000 (Thu, 16 Oct 2025) EndedAt: 2025-10-16 22:04:33 -0000 (Thu, 16 Oct 2025) EllapsedTime: 51.1 seconds RetCode: 0 Status: OK