Package: BadRegionFinder Version: 1.37.0 Command: rm -rf BadRegionFinder.buildbin-libdir && mkdir BadRegionFinder.buildbin-libdir && F:\biocbuild\bbs-3.22-bioc\R\bin\R.exe CMD INSTALL --build --library=BadRegionFinder.buildbin-libdir BadRegionFinder_1.37.0.tar.gz StartedAt: 2025-08-15 09:45:39 -0400 (Fri, 15 Aug 2025) EndedAt: 2025-08-15 09:46:42 -0400 (Fri, 15 Aug 2025) EllapsedTime: 63.7 seconds RetCode: 0 Status: OK PackageFile: BadRegionFinder_1.37.0.zip PackageFileSize: 812.9 KiB