Package: BadRegionFinder Version: 1.37.0 Command: /home/biocbuild/bbs-3.22-bioc/R/bin/R CMD INSTALL BadRegionFinder StartedAt: 2025-10-20 15:41:55 -0400 (Mon, 20 Oct 2025) EndedAt: 2025-10-20 15:42:34 -0400 (Mon, 20 Oct 2025) EllapsedTime: 39.2 seconds RetCode: 0 Status: OK