Package: BadRegionFinder Version: 1.37.0 Command: /home/biocbuild/bbs-3.22-bioc/R/bin/R CMD build --keep-empty-dirs --no-resave-data --md5 BadRegionFinder StartedAt: 2025-10-19 16:18:35 -0400 (Sun, 19 Oct 2025) EndedAt: 2025-10-19 16:19:56 -0400 (Sun, 19 Oct 2025) EllapsedTime: 81.1 seconds RetCode: 0 Status: OK PackageFile: BadRegionFinder_1.37.0.tar.gz PackageFileSize: 834.9 KiB