Package: BadRegionFinder Version: 1.37.0 Command: /Library/Frameworks/R.framework/Resources/bin/R CMD INSTALL BadRegionFinder StartedAt: 2025-10-19 15:40:45 -0400 (Sun, 19 Oct 2025) EndedAt: 2025-10-19 15:41:41 -0400 (Sun, 19 Oct 2025) EllapsedTime: 56.3 seconds RetCode: 0 Status: OK