Package: BadRegionFinder Version: 1.37.0 Command: /Library/Frameworks/R.framework/Resources/bin/R CMD build --keep-empty-dirs --no-resave-data BadRegionFinder StartedAt: 2025-10-19 16:06:04 -0400 (Sun, 19 Oct 2025) EndedAt: 2025-10-19 16:07:57 -0400 (Sun, 19 Oct 2025) EllapsedTime: 113.6 seconds RetCode: 0 Status: OK PackageFile: BadRegionFinder_1.37.0.tar.gz PackageFileSize: 832 KiB