Package: BadRegionFinder Version: 1.37.0 Command: rm -rf BadRegionFinder.buildbin-libdir && mkdir BadRegionFinder.buildbin-libdir && /Users/biocbuild/BBS/utils/build-universal.sh BadRegionFinder_1.37.0.tar.gz /Library/Frameworks/R.framework/Resources/bin/R BadRegionFinder.buildbin-libdir StartedAt: 2025-10-20 02:57:01 -0400 (Mon, 20 Oct 2025) EndedAt: 2025-10-20 02:58:00 -0400 (Mon, 20 Oct 2025) EllapsedTime: 58.5 seconds RetCode: 0 Status: OK PackageFile: BadRegionFinder_1.37.0.tgz PackageFileSize: 928.1 KiB