Package: BaalChIP Version: 1.35.0 Command: F:\biocbuild\bbs-3.22-bioc\R\bin\R.exe CMD check --no-multiarch --install=check:BaalChIP.install-out.txt --library=F:\biocbuild\bbs-3.22-bioc\R\library --no-vignettes --timings BaalChIP_1.35.0.tar.gz StartedAt: 2025-08-15 00:37:07 -0400 (Fri, 15 Aug 2025) EndedAt: 2025-08-15 00:48:40 -0400 (Fri, 15 Aug 2025) EllapsedTime: 692.7 seconds RetCode: 0 Status: WARNINGS CheckDir: BaalChIP.Rcheck Warnings: 1