Package: BaalChIP Version: 1.35.0 Command: /home/biocbuild/bbs-3.22-bioc/R/bin/R CMD INSTALL BaalChIP StartedAt: 2025-10-24 15:36:04 -0400 (Fri, 24 Oct 2025) EndedAt: 2025-10-24 15:37:09 -0400 (Fri, 24 Oct 2025) EllapsedTime: 64.2 seconds RetCode: 0 Status: OK