Package: BaalChIP Version: 1.35.0 Command: /Library/Frameworks/R.framework/Resources/bin/R CMD INSTALL BaalChIP StartedAt: 2025-10-20 15:27:30 -0400 (Mon, 20 Oct 2025) EndedAt: 2025-10-20 15:28:57 -0400 (Mon, 20 Oct 2025) EllapsedTime: 87.2 seconds RetCode: 0 Status: OK