Package: BaalChIP Version: 1.35.0 Command: /Library/Frameworks/R.framework/Resources/bin/R CMD check --install=check:BaalChIP.install-out.txt --library=/Library/Frameworks/R.framework/Resources/library --no-vignettes --timings BaalChIP_1.35.0.tar.gz StartedAt: 2025-10-20 20:25:50 -0400 (Mon, 20 Oct 2025) EndedAt: 2025-10-20 20:37:23 -0400 (Mon, 20 Oct 2025) EllapsedTime: 693.0 seconds RetCode: 0 Status: WARNINGS CheckDir: BaalChIP.Rcheck Warnings: 1