Package: BaalChIP Version: 1.35.0 Command: /Library/Frameworks/R.framework/Resources/bin/R CMD build --keep-empty-dirs --no-resave-data BaalChIP StartedAt: 2025-10-20 15:40:19 -0400 (Mon, 20 Oct 2025) EndedAt: 2025-10-20 15:41:12 -0400 (Mon, 20 Oct 2025) EllapsedTime: 53.6 seconds RetCode: 0 Status: OK PackageFile: BaalChIP_1.35.0.tar.gz PackageFileSize: 45.32 MiB