Package: BUSseq Version: 1.15.1 Command: /Library/Frameworks/R.framework/Resources/bin/R CMD check --install=check:BUSseq.install-out.txt --library=/Library/Frameworks/R.framework/Resources/library --no-vignettes --timings BUSseq_1.15.1.tar.gz StartedAt: 2025-10-27 20:22:32 -0400 (Mon, 27 Oct 2025) EndedAt: 2025-10-27 20:26:12 -0400 (Mon, 27 Oct 2025) EllapsedTime: 220.0 seconds RetCode: 0 Status: OK CheckDir: BUSseq.Rcheck Warnings: 0