Package: BUSseq Version: 1.15.1 Command: rm -rf BUSseq.buildbin-libdir && mkdir BUSseq.buildbin-libdir && /Users/biocbuild/BBS/utils/build-universal.sh BUSseq_1.15.1.tar.gz /Library/Frameworks/R.framework/Resources/bin/R BUSseq.buildbin-libdir StartedAt: 2025-10-25 01:30:57 -0400 (Sat, 25 Oct 2025) EndedAt: 2025-10-25 01:31:39 -0400 (Sat, 25 Oct 2025) EllapsedTime: 41.4 seconds RetCode: 0 Status: OK PackageFile: BUSseq_1.15.1.tgz PackageFileSize: 960.2 KiB