Package: BUSseq Version: 1.15.0 Command: /Library/Frameworks/R.framework/Resources/bin/R CMD INSTALL BUSseq StartedAt: 2025-10-01 15:13:04 -0400 (Wed, 01 Oct 2025) EndedAt: 2025-10-01 15:13:15 -0400 (Wed, 01 Oct 2025) EllapsedTime: 10.4 seconds RetCode: 0 Status: OK