Package: BUSseq Version: 1.15.0 Command: /Library/Frameworks/R.framework/Resources/bin/R CMD check --install=check:BUSseq.install-out.txt --library=/Library/Frameworks/R.framework/Resources/library --no-vignettes --timings BUSseq_1.15.0.tar.gz StartedAt: 2025-10-01 18:40:33 -0400 (Wed, 01 Oct 2025) EndedAt: 2025-10-01 18:41:52 -0400 (Wed, 01 Oct 2025) EllapsedTime: 78.9 seconds RetCode: 0 Status: OK CheckDir: BUSseq.Rcheck Warnings: 0