Package: BUSseq Version: 1.15.0 Command: /Library/Frameworks/R.framework/Resources/bin/R CMD build --keep-empty-dirs --no-resave-data BUSseq StartedAt: 2025-10-01 15:49:26 -0400 (Wed, 01 Oct 2025) EndedAt: 2025-10-01 15:49:58 -0400 (Wed, 01 Oct 2025) EllapsedTime: 32.4 seconds RetCode: 0 Status: OK PackageFile: BUSseq_1.15.0.tar.gz PackageFileSize: 977.8 KiB