Package: BUSseq Version: 1.15.0 Command: rm -rf BUSseq.buildbin-libdir && mkdir BUSseq.buildbin-libdir && /Users/biocbuild/BBS/utils/build-universal.sh BUSseq_1.15.0.tar.gz /Library/Frameworks/R.framework/Resources/bin/R BUSseq.buildbin-libdir StartedAt: 2025-10-01 22:40:27 -0400 (Wed, 01 Oct 2025) EndedAt: 2025-10-01 22:40:39 -0400 (Wed, 01 Oct 2025) EllapsedTime: 12.3 seconds RetCode: 0 Status: OK PackageFile: BUSseq_1.15.0.tgz PackageFileSize: 957.2 KiB