Package: BUSpaRse Version: 1.23.2 Command: /home/biocbuild/R/R/bin/R CMD INSTALL BUSpaRse StartedAt: 2025-10-20 20:59:43 -0000 (Mon, 20 Oct 2025) EndedAt: 2025-10-20 21:01:04 -0000 (Mon, 20 Oct 2025) EllapsedTime: 81.1 seconds RetCode: 0 Status: OK