Package: BUSpaRse Version: 1.23.2 Command: /home/biocbuild/R/R/bin/R CMD check --install=check:BUSpaRse.install-out.txt --library=/home/biocbuild/R/R/site-library --no-vignettes --timings BUSpaRse_1.23.2.tar.gz StartedAt: 2025-10-21 06:08:22 -0000 (Tue, 21 Oct 2025) EndedAt: 2025-10-21 06:18:59 -0000 (Tue, 21 Oct 2025) EllapsedTime: 637.5 seconds RetCode: 0 Status: OK CheckDir: BUSpaRse.Rcheck Warnings: 0