Package: BUSpaRse Version: 1.23.2 Command: /home/biocbuild/R/R/bin/R CMD build --keep-empty-dirs --no-resave-data BUSpaRse StartedAt: 2025-10-20 22:25:51 -0000 (Mon, 20 Oct 2025) EndedAt: 2025-10-20 22:30:30 -0000 (Mon, 20 Oct 2025) EllapsedTime: 279.1 seconds RetCode: 0 Status: OK PackageFile: BUSpaRse_1.23.2.tar.gz PackageFileSize: 622 KiB