Package: BUSpaRse Version: 1.23.1 Command: F:\biocbuild\bbs-3.22-bioc\R\bin\R.exe CMD check --no-multiarch --install=check:BUSpaRse.install-out.txt --library=F:\biocbuild\bbs-3.22-bioc\R\library --no-vignettes --timings BUSpaRse_1.23.1.tar.gz StartedAt: 2025-08-15 01:16:26 -0400 (Fri, 15 Aug 2025) EndedAt: 2025-08-15 01:26:26 -0400 (Fri, 15 Aug 2025) EllapsedTime: 600.0 seconds RetCode: 0 Status: OK CheckDir: BUSpaRse.Rcheck Warnings: 0