Package: BUSpaRse Version: 1.23.2 Command: /Library/Frameworks/R.framework/Resources/bin/R CMD INSTALL BUSpaRse StartedAt: 2025-10-19 15:38:22 -0400 (Sun, 19 Oct 2025) EndedAt: 2025-10-19 15:39:39 -0400 (Sun, 19 Oct 2025) EllapsedTime: 76.9 seconds RetCode: 0 Status: OK