Package: BUSpaRse Version: 1.23.2 Command: /Library/Frameworks/R.framework/Resources/bin/R CMD check --install=check:BUSpaRse.install-out.txt --library=/Library/Frameworks/R.framework/Resources/library --no-vignettes --timings BUSpaRse_1.23.2.tar.gz StartedAt: 2025-10-21 20:41:56 -0400 (Tue, 21 Oct 2025) EndedAt: 2025-10-21 20:51:10 -0400 (Tue, 21 Oct 2025) EllapsedTime: 554.2 seconds RetCode: 0 Status: OK CheckDir: BUSpaRse.Rcheck Warnings: 0