Package: BUSpaRse Version: 1.23.2 Command: /Library/Frameworks/R.framework/Resources/bin/R CMD build --keep-empty-dirs --no-resave-data BUSpaRse StartedAt: 2025-10-19 16:20:37 -0400 (Sun, 19 Oct 2025) EndedAt: 2025-10-19 16:25:00 -0400 (Sun, 19 Oct 2025) EllapsedTime: 263.1 seconds RetCode: 0 Status: OK PackageFile: BUSpaRse_1.23.2.tar.gz PackageFileSize: 579.8 KiB