Package: BUSpaRse Version: 1.23.2 Command: rm -rf BUSpaRse.buildbin-libdir && mkdir BUSpaRse.buildbin-libdir && /Users/biocbuild/BBS/utils/build-universal.sh BUSpaRse_1.23.2.tar.gz /Library/Frameworks/R.framework/Resources/bin/R BUSpaRse.buildbin-libdir StartedAt: 2025-10-20 02:59:36 -0400 (Mon, 20 Oct 2025) EndedAt: 2025-10-20 03:01:01 -0400 (Mon, 20 Oct 2025) EllapsedTime: 84.6 seconds RetCode: 0 Status: OK PackageFile: BUSpaRse_1.23.2.tgz PackageFileSize: 848.8 KiB