Package: BUSpaRse Version: 1.24.0 Command: /Library/Frameworks/R.framework/Resources/bin/R CMD build --keep-empty-dirs --no-resave-data BUSpaRse StartedAt: 2025-10-31 15:53:26 -0400 (Fri, 31 Oct 2025) EndedAt: 2025-10-31 15:54:55 -0400 (Fri, 31 Oct 2025) EllapsedTime: 89.0 seconds RetCode: 0 Status: OK PackageFile: BUSpaRse_1.24.0.tar.gz PackageFileSize: 579.8 KiB