Package: BUSpaRse Version: 1.24.0 Command: rm -rf BUSpaRse.buildbin-libdir && mkdir BUSpaRse.buildbin-libdir && /Users/biocbuild/BBS/utils/build-universal.sh BUSpaRse_1.24.0.tar.gz /Library/Frameworks/R.framework/Resources/bin/R BUSpaRse.buildbin-libdir StartedAt: 2025-10-31 23:00:14 -0400 (Fri, 31 Oct 2025) EndedAt: 2025-10-31 23:00:39 -0400 (Fri, 31 Oct 2025) EllapsedTime: 24.4 seconds RetCode: 0 Status: OK PackageFile: BUSpaRse_1.24.0.tgz PackageFileSize: 843.2 KiB