Package: BUScorrect Version: 1.27.0 Command: /Library/Frameworks/R.framework/Resources/bin/R CMD build --keep-empty-dirs --no-resave-data BUScorrect StartedAt: 2025-10-19 15:49:03 -0400 (Sun, 19 Oct 2025) EndedAt: 2025-10-19 15:49:57 -0400 (Sun, 19 Oct 2025) EllapsedTime: 54.6 seconds RetCode: 0 Status: OK PackageFile: BUScorrect_1.27.0.tar.gz PackageFileSize: 3.518 MiB