Package: BUS Version: 1.65.0 Command: /home/biocbuild/R/R/bin/R CMD INSTALL BUS StartedAt: 2025-10-23 20:30:02 -0000 (Thu, 23 Oct 2025) EndedAt: 2025-10-23 20:30:18 -0000 (Thu, 23 Oct 2025) EllapsedTime: 16.2 seconds RetCode: 0 Status: OK