Package: BUS Version: 1.66.0 Command: /home/biocbuild/R/R/bin/R CMD check --install=check:BUS.install-out.txt --library=/home/biocbuild/R/R/site-library --no-vignettes --timings BUS_1.66.0.tar.gz StartedAt: 2025-11-11 07:45:23 -0000 (Tue, 11 Nov 2025) EndedAt: 2025-11-11 07:45:44 -0000 (Tue, 11 Nov 2025) EllapsedTime: 21.0 seconds RetCode: 0 Status: OK CheckDir: BUS.Rcheck Warnings: 0