Package: BUS Version: 1.65.0 Command: /home/biocbuild/R/R/bin/R CMD build --keep-empty-dirs --no-resave-data BUS StartedAt: 2025-10-20 22:25:42 -0000 (Mon, 20 Oct 2025) EndedAt: 2025-10-20 22:25:51 -0000 (Mon, 20 Oct 2025) EllapsedTime: 9.0 seconds RetCode: 0 Status: OK PackageFile: BUS_1.65.0.tar.gz PackageFileSize: 2.815 MiB