Package: BUS Version: 1.65.0 Command: rm -rf BUS.buildbin-libdir && mkdir BUS.buildbin-libdir && /Users/biocbuild/BBS/utils/build-universal.sh BUS_1.65.0.tar.gz /Library/Frameworks/R.framework/Resources/bin/R BUS.buildbin-libdir StartedAt: 2025-10-06 22:37:23 -0400 (Mon, 06 Oct 2025) EndedAt: 2025-10-06 22:37:26 -0400 (Mon, 06 Oct 2025) EllapsedTime: 3.0 seconds RetCode: 0 Status: OK PackageFile: BUS_1.65.0.tgz PackageFileSize: 1.893 MiB